BEGIN:VCALENDAR
VERSION:2.0
PRODID:-//Glencoe Baptist Church - ECPv6.15.20//NONSGML v1.0//EN
CALSCALE:GREGORIAN
METHOD:PUBLISH
X-ORIGINAL-URL:https://glencoebaptist.org
X-WR-CALDESC:Events for Glencoe Baptist Church
REFRESH-INTERVAL;VALUE=DURATION:PT1H
X-Robots-Tag:noindex
X-PUBLISHED-TTL:PT1H
BEGIN:VTIMEZONE
TZID:UTC
BEGIN:STANDARD
TZOFFSETFROM:+0000
TZOFFSETTO:+0000
TZNAME:UTC
DTSTART:20290101T000000
END:STANDARD
END:VTIMEZONE
BEGIN:VEVENT
DTSTART;TZID=UTC:20300417T190000
DTEND;TZID=UTC:20300417T200000
DTSTAMP:20260420T095528
CREATED:20250919T160002Z
LAST-MODIFIED:20250919T160041Z
UID:10000716-1902682800-1902686400@glencoebaptist.org
SUMMARY:Wednesday Night Service
DESCRIPTION:Join us for Prayer and Bible study. We’re in the book of Judges.
URL:https://glencoebaptist.org/event/wednesday-night-service-2/2030-04-17/
LOCATION:Glencoe Baptist Church\, 196 North Glencoe Road\, New Smyrna Beach\, FL\, 32168\, United States
CATEGORIES:Worship Service
ATTACH;FMTTYPE=image/png:https://glencoebaptist.org/wp-content/uploads/2022/11/cr-2.png
END:VEVENT
BEGIN:VEVENT
DTSTART;TZID=UTC:20300421T104500
DTEND;TZID=UTC:20300421T120000
DTSTAMP:20260420T095528
CREATED:20250919T153540Z
LAST-MODIFIED:20250919T154028Z
UID:10000454-1902998700-1903003200@glencoebaptist.org
SUMMARY:Sunday Service
DESCRIPTION:Join us as we study Colossians.
URL:https://glencoebaptist.org/event/sunday-service-2/2030-04-21/
LOCATION:Glencoe Baptist Church\, 196 North Glencoe Road\, New Smyrna Beach\, FL\, 32168\, United States
CATEGORIES:Worship Service
ATTACH;FMTTYPE=image/jpeg:https://glencoebaptist.org/wp-content/uploads/2022/11/Untitled-design-5.jpg
END:VEVENT
BEGIN:VEVENT
DTSTART;TZID=UTC:20300424T190000
DTEND;TZID=UTC:20300424T200000
DTSTAMP:20260420T095528
CREATED:20250919T160002Z
LAST-MODIFIED:20250919T160041Z
UID:10000717-1903287600-1903291200@glencoebaptist.org
SUMMARY:Wednesday Night Service
DESCRIPTION:Join us for Prayer and Bible study. We’re in the book of Judges.
URL:https://glencoebaptist.org/event/wednesday-night-service-2/2030-04-24/
LOCATION:Glencoe Baptist Church\, 196 North Glencoe Road\, New Smyrna Beach\, FL\, 32168\, United States
CATEGORIES:Worship Service
ATTACH;FMTTYPE=image/png:https://glencoebaptist.org/wp-content/uploads/2022/11/cr-2.png
END:VEVENT
BEGIN:VEVENT
DTSTART;TZID=UTC:20300428T104500
DTEND;TZID=UTC:20300428T120000
DTSTAMP:20260420T095528
CREATED:20250919T153540Z
LAST-MODIFIED:20250919T154028Z
UID:10000455-1903603500-1903608000@glencoebaptist.org
SUMMARY:Sunday Service
DESCRIPTION:Join us as we study Colossians.
URL:https://glencoebaptist.org/event/sunday-service-2/2030-04-28/
LOCATION:Glencoe Baptist Church\, 196 North Glencoe Road\, New Smyrna Beach\, FL\, 32168\, United States
CATEGORIES:Worship Service
ATTACH;FMTTYPE=image/jpeg:https://glencoebaptist.org/wp-content/uploads/2022/11/Untitled-design-5.jpg
END:VEVENT
BEGIN:VEVENT
DTSTART;TZID=UTC:20300501T190000
DTEND;TZID=UTC:20300501T200000
DTSTAMP:20260420T095528
CREATED:20250919T160002Z
LAST-MODIFIED:20250919T160041Z
UID:10000718-1903892400-1903896000@glencoebaptist.org
SUMMARY:Wednesday Night Service
DESCRIPTION:Join us for Prayer and Bible study. We’re in the book of Judges.
URL:https://glencoebaptist.org/event/wednesday-night-service-2/2030-05-01/
LOCATION:Glencoe Baptist Church\, 196 North Glencoe Road\, New Smyrna Beach\, FL\, 32168\, United States
CATEGORIES:Worship Service
ATTACH;FMTTYPE=image/png:https://glencoebaptist.org/wp-content/uploads/2022/11/cr-2.png
END:VEVENT
BEGIN:VEVENT
DTSTART;TZID=UTC:20300505T104500
DTEND;TZID=UTC:20300505T120000
DTSTAMP:20260420T095528
CREATED:20250919T153540Z
LAST-MODIFIED:20250919T154028Z
UID:10000456-1904208300-1904212800@glencoebaptist.org
SUMMARY:Sunday Service
DESCRIPTION:Join us as we study Colossians.
URL:https://glencoebaptist.org/event/sunday-service-2/2030-05-05/
LOCATION:Glencoe Baptist Church\, 196 North Glencoe Road\, New Smyrna Beach\, FL\, 32168\, United States
CATEGORIES:Worship Service
ATTACH;FMTTYPE=image/jpeg:https://glencoebaptist.org/wp-content/uploads/2022/11/Untitled-design-5.jpg
END:VEVENT
BEGIN:VEVENT
DTSTART;TZID=UTC:20300508T190000
DTEND;TZID=UTC:20300508T200000
DTSTAMP:20260420T095528
CREATED:20250919T160002Z
LAST-MODIFIED:20250919T160041Z
UID:10000719-1904497200-1904500800@glencoebaptist.org
SUMMARY:Wednesday Night Service
DESCRIPTION:Join us for Prayer and Bible study. We’re in the book of Judges.
URL:https://glencoebaptist.org/event/wednesday-night-service-2/2030-05-08/
LOCATION:Glencoe Baptist Church\, 196 North Glencoe Road\, New Smyrna Beach\, FL\, 32168\, United States
CATEGORIES:Worship Service
ATTACH;FMTTYPE=image/png:https://glencoebaptist.org/wp-content/uploads/2022/11/cr-2.png
END:VEVENT
BEGIN:VEVENT
DTSTART;TZID=UTC:20300512T104500
DTEND;TZID=UTC:20300512T120000
DTSTAMP:20260420T095528
CREATED:20250919T153540Z
LAST-MODIFIED:20250919T154028Z
UID:10000457-1904813100-1904817600@glencoebaptist.org
SUMMARY:Sunday Service
DESCRIPTION:Join us as we study Colossians.
URL:https://glencoebaptist.org/event/sunday-service-2/2030-05-12/
LOCATION:Glencoe Baptist Church\, 196 North Glencoe Road\, New Smyrna Beach\, FL\, 32168\, United States
CATEGORIES:Worship Service
ATTACH;FMTTYPE=image/jpeg:https://glencoebaptist.org/wp-content/uploads/2022/11/Untitled-design-5.jpg
END:VEVENT
BEGIN:VEVENT
DTSTART;TZID=UTC:20300515T190000
DTEND;TZID=UTC:20300515T200000
DTSTAMP:20260420T095528
CREATED:20250919T160002Z
LAST-MODIFIED:20250919T160041Z
UID:10000720-1905102000-1905105600@glencoebaptist.org
SUMMARY:Wednesday Night Service
DESCRIPTION:Join us for Prayer and Bible study. We’re in the book of Judges.
URL:https://glencoebaptist.org/event/wednesday-night-service-2/2030-05-15/
LOCATION:Glencoe Baptist Church\, 196 North Glencoe Road\, New Smyrna Beach\, FL\, 32168\, United States
CATEGORIES:Worship Service
ATTACH;FMTTYPE=image/png:https://glencoebaptist.org/wp-content/uploads/2022/11/cr-2.png
END:VEVENT
BEGIN:VEVENT
DTSTART;TZID=UTC:20300519T104500
DTEND;TZID=UTC:20300519T120000
DTSTAMP:20260420T095528
CREATED:20250919T153540Z
LAST-MODIFIED:20250919T154028Z
UID:10000458-1905417900-1905422400@glencoebaptist.org
SUMMARY:Sunday Service
DESCRIPTION:Join us as we study Colossians.
URL:https://glencoebaptist.org/event/sunday-service-2/2030-05-19/
LOCATION:Glencoe Baptist Church\, 196 North Glencoe Road\, New Smyrna Beach\, FL\, 32168\, United States
CATEGORIES:Worship Service
ATTACH;FMTTYPE=image/jpeg:https://glencoebaptist.org/wp-content/uploads/2022/11/Untitled-design-5.jpg
END:VEVENT
BEGIN:VEVENT
DTSTART;TZID=UTC:20300522T190000
DTEND;TZID=UTC:20300522T200000
DTSTAMP:20260420T095528
CREATED:20250919T160002Z
LAST-MODIFIED:20250919T160041Z
UID:10000721-1905706800-1905710400@glencoebaptist.org
SUMMARY:Wednesday Night Service
DESCRIPTION:Join us for Prayer and Bible study. We’re in the book of Judges.
URL:https://glencoebaptist.org/event/wednesday-night-service-2/2030-05-22/
LOCATION:Glencoe Baptist Church\, 196 North Glencoe Road\, New Smyrna Beach\, FL\, 32168\, United States
CATEGORIES:Worship Service
ATTACH;FMTTYPE=image/png:https://glencoebaptist.org/wp-content/uploads/2022/11/cr-2.png
END:VEVENT
BEGIN:VEVENT
DTSTART;TZID=UTC:20300526T104500
DTEND;TZID=UTC:20300526T120000
DTSTAMP:20260420T095528
CREATED:20250919T153540Z
LAST-MODIFIED:20250919T154028Z
UID:10000459-1906022700-1906027200@glencoebaptist.org
SUMMARY:Sunday Service
DESCRIPTION:Join us as we study Colossians.
URL:https://glencoebaptist.org/event/sunday-service-2/2030-05-26/
LOCATION:Glencoe Baptist Church\, 196 North Glencoe Road\, New Smyrna Beach\, FL\, 32168\, United States
CATEGORIES:Worship Service
ATTACH;FMTTYPE=image/jpeg:https://glencoebaptist.org/wp-content/uploads/2022/11/Untitled-design-5.jpg
END:VEVENT
BEGIN:VEVENT
DTSTART;TZID=UTC:20300529T190000
DTEND;TZID=UTC:20300529T200000
DTSTAMP:20260420T095528
CREATED:20250919T160002Z
LAST-MODIFIED:20250919T160041Z
UID:10000722-1906311600-1906315200@glencoebaptist.org
SUMMARY:Wednesday Night Service
DESCRIPTION:Join us for Prayer and Bible study. We’re in the book of Judges.
URL:https://glencoebaptist.org/event/wednesday-night-service-2/2030-05-29/
LOCATION:Glencoe Baptist Church\, 196 North Glencoe Road\, New Smyrna Beach\, FL\, 32168\, United States
CATEGORIES:Worship Service
ATTACH;FMTTYPE=image/png:https://glencoebaptist.org/wp-content/uploads/2022/11/cr-2.png
END:VEVENT
BEGIN:VEVENT
DTSTART;TZID=UTC:20300602T104500
DTEND;TZID=UTC:20300602T120000
DTSTAMP:20260420T095528
CREATED:20250919T153540Z
LAST-MODIFIED:20250919T154028Z
UID:10000460-1906627500-1906632000@glencoebaptist.org
SUMMARY:Sunday Service
DESCRIPTION:Join us as we study Colossians.
URL:https://glencoebaptist.org/event/sunday-service-2/2030-06-02/
LOCATION:Glencoe Baptist Church\, 196 North Glencoe Road\, New Smyrna Beach\, FL\, 32168\, United States
CATEGORIES:Worship Service
ATTACH;FMTTYPE=image/jpeg:https://glencoebaptist.org/wp-content/uploads/2022/11/Untitled-design-5.jpg
END:VEVENT
BEGIN:VEVENT
DTSTART;TZID=UTC:20300605T190000
DTEND;TZID=UTC:20300605T200000
DTSTAMP:20260420T095528
CREATED:20250919T160002Z
LAST-MODIFIED:20250919T160041Z
UID:10000723-1906916400-1906920000@glencoebaptist.org
SUMMARY:Wednesday Night Service
DESCRIPTION:Join us for Prayer and Bible study. We’re in the book of Judges.
URL:https://glencoebaptist.org/event/wednesday-night-service-2/2030-06-05/
LOCATION:Glencoe Baptist Church\, 196 North Glencoe Road\, New Smyrna Beach\, FL\, 32168\, United States
CATEGORIES:Worship Service
ATTACH;FMTTYPE=image/png:https://glencoebaptist.org/wp-content/uploads/2022/11/cr-2.png
END:VEVENT
BEGIN:VEVENT
DTSTART;TZID=UTC:20300609T104500
DTEND;TZID=UTC:20300609T120000
DTSTAMP:20260420T095528
CREATED:20250919T153540Z
LAST-MODIFIED:20250919T154028Z
UID:10000461-1907232300-1907236800@glencoebaptist.org
SUMMARY:Sunday Service
DESCRIPTION:Join us as we study Colossians.
URL:https://glencoebaptist.org/event/sunday-service-2/2030-06-09/
LOCATION:Glencoe Baptist Church\, 196 North Glencoe Road\, New Smyrna Beach\, FL\, 32168\, United States
CATEGORIES:Worship Service
ATTACH;FMTTYPE=image/jpeg:https://glencoebaptist.org/wp-content/uploads/2022/11/Untitled-design-5.jpg
END:VEVENT
BEGIN:VEVENT
DTSTART;TZID=UTC:20300612T190000
DTEND;TZID=UTC:20300612T200000
DTSTAMP:20260420T095528
CREATED:20250919T160002Z
LAST-MODIFIED:20250919T160041Z
UID:10000724-1907521200-1907524800@glencoebaptist.org
SUMMARY:Wednesday Night Service
DESCRIPTION:Join us for Prayer and Bible study. We’re in the book of Judges.
URL:https://glencoebaptist.org/event/wednesday-night-service-2/2030-06-12/
LOCATION:Glencoe Baptist Church\, 196 North Glencoe Road\, New Smyrna Beach\, FL\, 32168\, United States
CATEGORIES:Worship Service
ATTACH;FMTTYPE=image/png:https://glencoebaptist.org/wp-content/uploads/2022/11/cr-2.png
END:VEVENT
BEGIN:VEVENT
DTSTART;TZID=UTC:20300616T104500
DTEND;TZID=UTC:20300616T120000
DTSTAMP:20260420T095528
CREATED:20250919T153540Z
LAST-MODIFIED:20250919T154028Z
UID:10000462-1907837100-1907841600@glencoebaptist.org
SUMMARY:Sunday Service
DESCRIPTION:Join us as we study Colossians.
URL:https://glencoebaptist.org/event/sunday-service-2/2030-06-16/
LOCATION:Glencoe Baptist Church\, 196 North Glencoe Road\, New Smyrna Beach\, FL\, 32168\, United States
CATEGORIES:Worship Service
ATTACH;FMTTYPE=image/jpeg:https://glencoebaptist.org/wp-content/uploads/2022/11/Untitled-design-5.jpg
END:VEVENT
BEGIN:VEVENT
DTSTART;TZID=UTC:20300619T190000
DTEND;TZID=UTC:20300619T200000
DTSTAMP:20260420T095528
CREATED:20250919T160002Z
LAST-MODIFIED:20250919T160041Z
UID:10000725-1908126000-1908129600@glencoebaptist.org
SUMMARY:Wednesday Night Service
DESCRIPTION:Join us for Prayer and Bible study. We’re in the book of Judges.
URL:https://glencoebaptist.org/event/wednesday-night-service-2/2030-06-19/
LOCATION:Glencoe Baptist Church\, 196 North Glencoe Road\, New Smyrna Beach\, FL\, 32168\, United States
CATEGORIES:Worship Service
ATTACH;FMTTYPE=image/png:https://glencoebaptist.org/wp-content/uploads/2022/11/cr-2.png
END:VEVENT
BEGIN:VEVENT
DTSTART;TZID=UTC:20300623T104500
DTEND;TZID=UTC:20300623T120000
DTSTAMP:20260420T095528
CREATED:20250919T153540Z
LAST-MODIFIED:20250919T154028Z
UID:10000463-1908441900-1908446400@glencoebaptist.org
SUMMARY:Sunday Service
DESCRIPTION:Join us as we study Colossians.
URL:https://glencoebaptist.org/event/sunday-service-2/2030-06-23/
LOCATION:Glencoe Baptist Church\, 196 North Glencoe Road\, New Smyrna Beach\, FL\, 32168\, United States
CATEGORIES:Worship Service
ATTACH;FMTTYPE=image/jpeg:https://glencoebaptist.org/wp-content/uploads/2022/11/Untitled-design-5.jpg
END:VEVENT
BEGIN:VEVENT
DTSTART;TZID=UTC:20300626T190000
DTEND;TZID=UTC:20300626T200000
DTSTAMP:20260420T095528
CREATED:20250919T160002Z
LAST-MODIFIED:20250919T160041Z
UID:10000726-1908730800-1908734400@glencoebaptist.org
SUMMARY:Wednesday Night Service
DESCRIPTION:Join us for Prayer and Bible study. We’re in the book of Judges.
URL:https://glencoebaptist.org/event/wednesday-night-service-2/2030-06-26/
LOCATION:Glencoe Baptist Church\, 196 North Glencoe Road\, New Smyrna Beach\, FL\, 32168\, United States
CATEGORIES:Worship Service
ATTACH;FMTTYPE=image/png:https://glencoebaptist.org/wp-content/uploads/2022/11/cr-2.png
END:VEVENT
BEGIN:VEVENT
DTSTART;TZID=UTC:20300630T104500
DTEND;TZID=UTC:20300630T120000
DTSTAMP:20260420T095528
CREATED:20250919T153540Z
LAST-MODIFIED:20250919T154028Z
UID:10000464-1909046700-1909051200@glencoebaptist.org
SUMMARY:Sunday Service
DESCRIPTION:Join us as we study Colossians.
URL:https://glencoebaptist.org/event/sunday-service-2/2030-06-30/
LOCATION:Glencoe Baptist Church\, 196 North Glencoe Road\, New Smyrna Beach\, FL\, 32168\, United States
CATEGORIES:Worship Service
ATTACH;FMTTYPE=image/jpeg:https://glencoebaptist.org/wp-content/uploads/2022/11/Untitled-design-5.jpg
END:VEVENT
BEGIN:VEVENT
DTSTART;TZID=UTC:20300703T190000
DTEND;TZID=UTC:20300703T200000
DTSTAMP:20260420T095528
CREATED:20250919T160002Z
LAST-MODIFIED:20250919T160041Z
UID:10000727-1909335600-1909339200@glencoebaptist.org
SUMMARY:Wednesday Night Service
DESCRIPTION:Join us for Prayer and Bible study. We’re in the book of Judges.
URL:https://glencoebaptist.org/event/wednesday-night-service-2/2030-07-03/
LOCATION:Glencoe Baptist Church\, 196 North Glencoe Road\, New Smyrna Beach\, FL\, 32168\, United States
CATEGORIES:Worship Service
ATTACH;FMTTYPE=image/png:https://glencoebaptist.org/wp-content/uploads/2022/11/cr-2.png
END:VEVENT
BEGIN:VEVENT
DTSTART;TZID=UTC:20300707T104500
DTEND;TZID=UTC:20300707T120000
DTSTAMP:20260420T095528
CREATED:20250919T153540Z
LAST-MODIFIED:20250919T154028Z
UID:10000465-1909651500-1909656000@glencoebaptist.org
SUMMARY:Sunday Service
DESCRIPTION:Join us as we study Colossians.
URL:https://glencoebaptist.org/event/sunday-service-2/2030-07-07/
LOCATION:Glencoe Baptist Church\, 196 North Glencoe Road\, New Smyrna Beach\, FL\, 32168\, United States
CATEGORIES:Worship Service
ATTACH;FMTTYPE=image/jpeg:https://glencoebaptist.org/wp-content/uploads/2022/11/Untitled-design-5.jpg
END:VEVENT
BEGIN:VEVENT
DTSTART;TZID=UTC:20300710T190000
DTEND;TZID=UTC:20300710T200000
DTSTAMP:20260420T095528
CREATED:20250919T160002Z
LAST-MODIFIED:20250919T160041Z
UID:10000728-1909940400-1909944000@glencoebaptist.org
SUMMARY:Wednesday Night Service
DESCRIPTION:Join us for Prayer and Bible study. We’re in the book of Judges.
URL:https://glencoebaptist.org/event/wednesday-night-service-2/2030-07-10/
LOCATION:Glencoe Baptist Church\, 196 North Glencoe Road\, New Smyrna Beach\, FL\, 32168\, United States
CATEGORIES:Worship Service
ATTACH;FMTTYPE=image/png:https://glencoebaptist.org/wp-content/uploads/2022/11/cr-2.png
END:VEVENT
BEGIN:VEVENT
DTSTART;TZID=UTC:20300714T104500
DTEND;TZID=UTC:20300714T120000
DTSTAMP:20260420T095528
CREATED:20250919T153540Z
LAST-MODIFIED:20250919T154028Z
UID:10000466-1910256300-1910260800@glencoebaptist.org
SUMMARY:Sunday Service
DESCRIPTION:Join us as we study Colossians.
URL:https://glencoebaptist.org/event/sunday-service-2/2030-07-14/
LOCATION:Glencoe Baptist Church\, 196 North Glencoe Road\, New Smyrna Beach\, FL\, 32168\, United States
CATEGORIES:Worship Service
ATTACH;FMTTYPE=image/jpeg:https://glencoebaptist.org/wp-content/uploads/2022/11/Untitled-design-5.jpg
END:VEVENT
BEGIN:VEVENT
DTSTART;TZID=UTC:20300717T190000
DTEND;TZID=UTC:20300717T200000
DTSTAMP:20260420T095528
CREATED:20250919T160002Z
LAST-MODIFIED:20250919T160041Z
UID:10000729-1910545200-1910548800@glencoebaptist.org
SUMMARY:Wednesday Night Service
DESCRIPTION:Join us for Prayer and Bible study. We’re in the book of Judges.
URL:https://glencoebaptist.org/event/wednesday-night-service-2/2030-07-17/
LOCATION:Glencoe Baptist Church\, 196 North Glencoe Road\, New Smyrna Beach\, FL\, 32168\, United States
CATEGORIES:Worship Service
ATTACH;FMTTYPE=image/png:https://glencoebaptist.org/wp-content/uploads/2022/11/cr-2.png
END:VEVENT
BEGIN:VEVENT
DTSTART;TZID=UTC:20300721T104500
DTEND;TZID=UTC:20300721T120000
DTSTAMP:20260420T095528
CREATED:20250919T153540Z
LAST-MODIFIED:20250919T154028Z
UID:10000467-1910861100-1910865600@glencoebaptist.org
SUMMARY:Sunday Service
DESCRIPTION:Join us as we study Colossians.
URL:https://glencoebaptist.org/event/sunday-service-2/2030-07-21/
LOCATION:Glencoe Baptist Church\, 196 North Glencoe Road\, New Smyrna Beach\, FL\, 32168\, United States
CATEGORIES:Worship Service
ATTACH;FMTTYPE=image/jpeg:https://glencoebaptist.org/wp-content/uploads/2022/11/Untitled-design-5.jpg
END:VEVENT
BEGIN:VEVENT
DTSTART;TZID=UTC:20300724T190000
DTEND;TZID=UTC:20300724T200000
DTSTAMP:20260420T095528
CREATED:20250919T160002Z
LAST-MODIFIED:20250919T160041Z
UID:10000730-1911150000-1911153600@glencoebaptist.org
SUMMARY:Wednesday Night Service
DESCRIPTION:Join us for Prayer and Bible study. We’re in the book of Judges.
URL:https://glencoebaptist.org/event/wednesday-night-service-2/2030-07-24/
LOCATION:Glencoe Baptist Church\, 196 North Glencoe Road\, New Smyrna Beach\, FL\, 32168\, United States
CATEGORIES:Worship Service
ATTACH;FMTTYPE=image/png:https://glencoebaptist.org/wp-content/uploads/2022/11/cr-2.png
END:VEVENT
BEGIN:VEVENT
DTSTART;TZID=UTC:20300728T104500
DTEND;TZID=UTC:20300728T120000
DTSTAMP:20260420T095528
CREATED:20250919T153540Z
LAST-MODIFIED:20250919T154028Z
UID:10000468-1911465900-1911470400@glencoebaptist.org
SUMMARY:Sunday Service
DESCRIPTION:Join us as we study Colossians.
URL:https://glencoebaptist.org/event/sunday-service-2/2030-07-28/
LOCATION:Glencoe Baptist Church\, 196 North Glencoe Road\, New Smyrna Beach\, FL\, 32168\, United States
CATEGORIES:Worship Service
ATTACH;FMTTYPE=image/jpeg:https://glencoebaptist.org/wp-content/uploads/2022/11/Untitled-design-5.jpg
END:VEVENT
END:VCALENDAR