BEGIN:VCALENDAR
VERSION:2.0
PRODID:-//Glencoe Baptist Church - ECPv6.15.20//NONSGML v1.0//EN
CALSCALE:GREGORIAN
METHOD:PUBLISH
X-ORIGINAL-URL:https://glencoebaptist.org
X-WR-CALDESC:Events for Glencoe Baptist Church
REFRESH-INTERVAL;VALUE=DURATION:PT1H
X-Robots-Tag:noindex
X-PUBLISHED-TTL:PT1H
BEGIN:VTIMEZONE
TZID:UTC
BEGIN:STANDARD
TZOFFSETFROM:+0000
TZOFFSETTO:+0000
TZNAME:UTC
DTSTART:20240101T000000
END:STANDARD
END:VTIMEZONE
BEGIN:VEVENT
DTSTART;TZID=UTC:20250504T104500
DTEND;TZID=UTC:20250504T120000
DTSTAMP:20260423T134021
CREATED:20250919T153540Z
LAST-MODIFIED:20250919T154028Z
UID:10000195-1746355500-1746360000@glencoebaptist.org
SUMMARY:Sunday Service
DESCRIPTION:Join us as we study Colossians.
URL:https://glencoebaptist.org/event/sunday-service-2/2025-05-04/
LOCATION:Glencoe Baptist Church\, 196 North Glencoe Road\, New Smyrna Beach\, FL\, 32168\, United States
CATEGORIES:Worship Service
ATTACH;FMTTYPE=image/jpeg:https://glencoebaptist.org/wp-content/uploads/2022/11/Untitled-design-5.jpg
END:VEVENT
BEGIN:VEVENT
DTSTART;TZID=UTC:20250511T104500
DTEND;TZID=UTC:20250511T120000
DTSTAMP:20260423T134021
CREATED:20250919T153540Z
LAST-MODIFIED:20250919T154028Z
UID:10000196-1746960300-1746964800@glencoebaptist.org
SUMMARY:Sunday Service
DESCRIPTION:Join us as we study Colossians.
URL:https://glencoebaptist.org/event/sunday-service-2/2025-05-11/
LOCATION:Glencoe Baptist Church\, 196 North Glencoe Road\, New Smyrna Beach\, FL\, 32168\, United States
CATEGORIES:Worship Service
ATTACH;FMTTYPE=image/jpeg:https://glencoebaptist.org/wp-content/uploads/2022/11/Untitled-design-5.jpg
END:VEVENT
BEGIN:VEVENT
DTSTART;TZID=UTC:20250518T104500
DTEND;TZID=UTC:20250518T120000
DTSTAMP:20260423T134021
CREATED:20250919T153540Z
LAST-MODIFIED:20250919T154028Z
UID:10000197-1747565100-1747569600@glencoebaptist.org
SUMMARY:Sunday Service
DESCRIPTION:Join us as we study Colossians.
URL:https://glencoebaptist.org/event/sunday-service-2/2025-05-18/
LOCATION:Glencoe Baptist Church\, 196 North Glencoe Road\, New Smyrna Beach\, FL\, 32168\, United States
CATEGORIES:Worship Service
ATTACH;FMTTYPE=image/jpeg:https://glencoebaptist.org/wp-content/uploads/2022/11/Untitled-design-5.jpg
END:VEVENT
BEGIN:VEVENT
DTSTART;TZID=UTC:20250525T104500
DTEND;TZID=UTC:20250525T120000
DTSTAMP:20260423T134021
CREATED:20250919T153540Z
LAST-MODIFIED:20250919T154028Z
UID:10000198-1748169900-1748174400@glencoebaptist.org
SUMMARY:Sunday Service
DESCRIPTION:Join us as we study Colossians.
URL:https://glencoebaptist.org/event/sunday-service-2/2025-05-25/
LOCATION:Glencoe Baptist Church\, 196 North Glencoe Road\, New Smyrna Beach\, FL\, 32168\, United States
CATEGORIES:Worship Service
ATTACH;FMTTYPE=image/jpeg:https://glencoebaptist.org/wp-content/uploads/2022/11/Untitled-design-5.jpg
END:VEVENT
END:VCALENDAR