BEGIN:VCALENDAR
VERSION:2.0
PRODID:-//Glencoe Baptist Church - ECPv6.15.20//NONSGML v1.0//EN
CALSCALE:GREGORIAN
METHOD:PUBLISH
X-ORIGINAL-URL:https://glencoebaptist.org
X-WR-CALDESC:Events for Glencoe Baptist Church
REFRESH-INTERVAL;VALUE=DURATION:PT1H
X-Robots-Tag:noindex
X-PUBLISHED-TTL:PT1H
BEGIN:VTIMEZONE
TZID:UTC
BEGIN:STANDARD
TZOFFSETFROM:+0000
TZOFFSETTO:+0000
TZNAME:UTC
DTSTART:20250101T000000
END:STANDARD
END:VTIMEZONE
BEGIN:VEVENT
DTSTART;TZID=UTC:20260902T190000
DTEND;TZID=UTC:20260902T200000
DTSTAMP:20260423T145913
CREATED:20250919T160002Z
LAST-MODIFIED:20250919T160041Z
UID:10000527-1788375600-1788379200@glencoebaptist.org
SUMMARY:Wednesday Night Service
DESCRIPTION:Join us for Prayer and Bible study. We’re in the book of Judges.
URL:https://glencoebaptist.org/event/wednesday-night-service-2/2026-09-02/
LOCATION:Glencoe Baptist Church\, 196 North Glencoe Road\, New Smyrna Beach\, FL\, 32168\, United States
CATEGORIES:Worship Service
ATTACH;FMTTYPE=image/png:https://glencoebaptist.org/wp-content/uploads/2022/11/cr-2.png
END:VEVENT
BEGIN:VEVENT
DTSTART;TZID=UTC:20260906T104500
DTEND;TZID=UTC:20260906T120000
DTSTAMP:20260423T145913
CREATED:20250919T153540Z
LAST-MODIFIED:20250919T154028Z
UID:10000265-1788691500-1788696000@glencoebaptist.org
SUMMARY:Sunday Service
DESCRIPTION:Join us as we study Colossians.
URL:https://glencoebaptist.org/event/sunday-service-2/2026-09-06/
LOCATION:Glencoe Baptist Church\, 196 North Glencoe Road\, New Smyrna Beach\, FL\, 32168\, United States
CATEGORIES:Worship Service
ATTACH;FMTTYPE=image/jpeg:https://glencoebaptist.org/wp-content/uploads/2022/11/Untitled-design-5.jpg
END:VEVENT
BEGIN:VEVENT
DTSTART;TZID=UTC:20260909T190000
DTEND;TZID=UTC:20260909T200000
DTSTAMP:20260423T145913
CREATED:20250919T160002Z
LAST-MODIFIED:20250919T160041Z
UID:10000528-1788980400-1788984000@glencoebaptist.org
SUMMARY:Wednesday Night Service
DESCRIPTION:Join us for Prayer and Bible study. We’re in the book of Judges.
URL:https://glencoebaptist.org/event/wednesday-night-service-2/2026-09-09/
LOCATION:Glencoe Baptist Church\, 196 North Glencoe Road\, New Smyrna Beach\, FL\, 32168\, United States
CATEGORIES:Worship Service
ATTACH;FMTTYPE=image/png:https://glencoebaptist.org/wp-content/uploads/2022/11/cr-2.png
END:VEVENT
BEGIN:VEVENT
DTSTART;TZID=UTC:20260913T104500
DTEND;TZID=UTC:20260913T120000
DTSTAMP:20260423T145913
CREATED:20250919T153540Z
LAST-MODIFIED:20250919T154028Z
UID:10000266-1789296300-1789300800@glencoebaptist.org
SUMMARY:Sunday Service
DESCRIPTION:Join us as we study Colossians.
URL:https://glencoebaptist.org/event/sunday-service-2/2026-09-13/
LOCATION:Glencoe Baptist Church\, 196 North Glencoe Road\, New Smyrna Beach\, FL\, 32168\, United States
CATEGORIES:Worship Service
ATTACH;FMTTYPE=image/jpeg:https://glencoebaptist.org/wp-content/uploads/2022/11/Untitled-design-5.jpg
END:VEVENT
BEGIN:VEVENT
DTSTART;TZID=UTC:20260916T190000
DTEND;TZID=UTC:20260916T200000
DTSTAMP:20260423T145913
CREATED:20250919T160002Z
LAST-MODIFIED:20250919T160041Z
UID:10000529-1789585200-1789588800@glencoebaptist.org
SUMMARY:Wednesday Night Service
DESCRIPTION:Join us for Prayer and Bible study. We’re in the book of Judges.
URL:https://glencoebaptist.org/event/wednesday-night-service-2/2026-09-16/
LOCATION:Glencoe Baptist Church\, 196 North Glencoe Road\, New Smyrna Beach\, FL\, 32168\, United States
CATEGORIES:Worship Service
ATTACH;FMTTYPE=image/png:https://glencoebaptist.org/wp-content/uploads/2022/11/cr-2.png
END:VEVENT
BEGIN:VEVENT
DTSTART;TZID=UTC:20260920T104500
DTEND;TZID=UTC:20260920T120000
DTSTAMP:20260423T145913
CREATED:20250919T153540Z
LAST-MODIFIED:20250919T154028Z
UID:10000267-1789901100-1789905600@glencoebaptist.org
SUMMARY:Sunday Service
DESCRIPTION:Join us as we study Colossians.
URL:https://glencoebaptist.org/event/sunday-service-2/2026-09-20/
LOCATION:Glencoe Baptist Church\, 196 North Glencoe Road\, New Smyrna Beach\, FL\, 32168\, United States
CATEGORIES:Worship Service
ATTACH;FMTTYPE=image/jpeg:https://glencoebaptist.org/wp-content/uploads/2022/11/Untitled-design-5.jpg
END:VEVENT
BEGIN:VEVENT
DTSTART;TZID=UTC:20260923T190000
DTEND;TZID=UTC:20260923T200000
DTSTAMP:20260423T145913
CREATED:20250919T160002Z
LAST-MODIFIED:20250919T160041Z
UID:10000530-1790190000-1790193600@glencoebaptist.org
SUMMARY:Wednesday Night Service
DESCRIPTION:Join us for Prayer and Bible study. We’re in the book of Judges.
URL:https://glencoebaptist.org/event/wednesday-night-service-2/2026-09-23/
LOCATION:Glencoe Baptist Church\, 196 North Glencoe Road\, New Smyrna Beach\, FL\, 32168\, United States
CATEGORIES:Worship Service
ATTACH;FMTTYPE=image/png:https://glencoebaptist.org/wp-content/uploads/2022/11/cr-2.png
END:VEVENT
BEGIN:VEVENT
DTSTART;TZID=UTC:20260927T104500
DTEND;TZID=UTC:20260927T120000
DTSTAMP:20260423T145913
CREATED:20250919T153540Z
LAST-MODIFIED:20250919T154028Z
UID:10000268-1790505900-1790510400@glencoebaptist.org
SUMMARY:Sunday Service
DESCRIPTION:Join us as we study Colossians.
URL:https://glencoebaptist.org/event/sunday-service-2/2026-09-27/
LOCATION:Glencoe Baptist Church\, 196 North Glencoe Road\, New Smyrna Beach\, FL\, 32168\, United States
CATEGORIES:Worship Service
ATTACH;FMTTYPE=image/jpeg:https://glencoebaptist.org/wp-content/uploads/2022/11/Untitled-design-5.jpg
END:VEVENT
BEGIN:VEVENT
DTSTART;TZID=UTC:20260930T190000
DTEND;TZID=UTC:20260930T200000
DTSTAMP:20260423T145914
CREATED:20250919T160002Z
LAST-MODIFIED:20250919T160041Z
UID:10000531-1790794800-1790798400@glencoebaptist.org
SUMMARY:Wednesday Night Service
DESCRIPTION:Join us for Prayer and Bible study. We’re in the book of Judges.
URL:https://glencoebaptist.org/event/wednesday-night-service-2/2026-09-30/
LOCATION:Glencoe Baptist Church\, 196 North Glencoe Road\, New Smyrna Beach\, FL\, 32168\, United States
CATEGORIES:Worship Service
ATTACH;FMTTYPE=image/png:https://glencoebaptist.org/wp-content/uploads/2022/11/cr-2.png
END:VEVENT
END:VCALENDAR