BEGIN:VCALENDAR
VERSION:2.0
PRODID:-//Glencoe Baptist Church - ECPv6.15.20//NONSGML v1.0//EN
CALSCALE:GREGORIAN
METHOD:PUBLISH
X-ORIGINAL-URL:https://glencoebaptist.org
X-WR-CALDESC:Events for Glencoe Baptist Church
REFRESH-INTERVAL;VALUE=DURATION:PT1H
X-Robots-Tag:noindex
X-PUBLISHED-TTL:PT1H
BEGIN:VTIMEZONE
TZID:UTC
BEGIN:STANDARD
TZOFFSETFROM:+0000
TZOFFSETTO:+0000
TZNAME:UTC
DTSTART:20250101T000000
END:STANDARD
END:VTIMEZONE
BEGIN:VEVENT
DTSTART;TZID=UTC:20261202T190000
DTEND;TZID=UTC:20261202T200000
DTSTAMP:20260423T202326
CREATED:20250919T160002Z
LAST-MODIFIED:20250919T160041Z
UID:10000540-1796238000-1796241600@glencoebaptist.org
SUMMARY:Wednesday Night Service
DESCRIPTION:Join us for Prayer and Bible study. We’re in the book of Judges.
URL:https://glencoebaptist.org/event/wednesday-night-service-2/2026-12-02/
LOCATION:Glencoe Baptist Church\, 196 North Glencoe Road\, New Smyrna Beach\, FL\, 32168\, United States
CATEGORIES:Worship Service
ATTACH;FMTTYPE=image/png:https://glencoebaptist.org/wp-content/uploads/2022/11/cr-2.png
END:VEVENT
BEGIN:VEVENT
DTSTART;TZID=UTC:20261206T104500
DTEND;TZID=UTC:20261206T120000
DTSTAMP:20260423T202326
CREATED:20250919T153540Z
LAST-MODIFIED:20250919T154028Z
UID:10000278-1796553900-1796558400@glencoebaptist.org
SUMMARY:Sunday Service
DESCRIPTION:Join us as we study Colossians.
URL:https://glencoebaptist.org/event/sunday-service-2/2026-12-06/
LOCATION:Glencoe Baptist Church\, 196 North Glencoe Road\, New Smyrna Beach\, FL\, 32168\, United States
CATEGORIES:Worship Service
ATTACH;FMTTYPE=image/jpeg:https://glencoebaptist.org/wp-content/uploads/2022/11/Untitled-design-5.jpg
END:VEVENT
BEGIN:VEVENT
DTSTART;TZID=UTC:20261209T190000
DTEND;TZID=UTC:20261209T200000
DTSTAMP:20260423T202326
CREATED:20250919T160002Z
LAST-MODIFIED:20250919T160041Z
UID:10000541-1796842800-1796846400@glencoebaptist.org
SUMMARY:Wednesday Night Service
DESCRIPTION:Join us for Prayer and Bible study. We’re in the book of Judges.
URL:https://glencoebaptist.org/event/wednesday-night-service-2/2026-12-09/
LOCATION:Glencoe Baptist Church\, 196 North Glencoe Road\, New Smyrna Beach\, FL\, 32168\, United States
CATEGORIES:Worship Service
ATTACH;FMTTYPE=image/png:https://glencoebaptist.org/wp-content/uploads/2022/11/cr-2.png
END:VEVENT
BEGIN:VEVENT
DTSTART;TZID=UTC:20261213T104500
DTEND;TZID=UTC:20261213T120000
DTSTAMP:20260423T202326
CREATED:20250919T153540Z
LAST-MODIFIED:20250919T154028Z
UID:10000279-1797158700-1797163200@glencoebaptist.org
SUMMARY:Sunday Service
DESCRIPTION:Join us as we study Colossians.
URL:https://glencoebaptist.org/event/sunday-service-2/2026-12-13/
LOCATION:Glencoe Baptist Church\, 196 North Glencoe Road\, New Smyrna Beach\, FL\, 32168\, United States
CATEGORIES:Worship Service
ATTACH;FMTTYPE=image/jpeg:https://glencoebaptist.org/wp-content/uploads/2022/11/Untitled-design-5.jpg
END:VEVENT
BEGIN:VEVENT
DTSTART;TZID=UTC:20261216T190000
DTEND;TZID=UTC:20261216T200000
DTSTAMP:20260423T202326
CREATED:20250919T160002Z
LAST-MODIFIED:20250919T160041Z
UID:10000542-1797447600-1797451200@glencoebaptist.org
SUMMARY:Wednesday Night Service
DESCRIPTION:Join us for Prayer and Bible study. We’re in the book of Judges.
URL:https://glencoebaptist.org/event/wednesday-night-service-2/2026-12-16/
LOCATION:Glencoe Baptist Church\, 196 North Glencoe Road\, New Smyrna Beach\, FL\, 32168\, United States
CATEGORIES:Worship Service
ATTACH;FMTTYPE=image/png:https://glencoebaptist.org/wp-content/uploads/2022/11/cr-2.png
END:VEVENT
BEGIN:VEVENT
DTSTART;TZID=UTC:20261220T104500
DTEND;TZID=UTC:20261220T120000
DTSTAMP:20260423T202326
CREATED:20250919T153540Z
LAST-MODIFIED:20250919T154028Z
UID:10000280-1797763500-1797768000@glencoebaptist.org
SUMMARY:Sunday Service
DESCRIPTION:Join us as we study Colossians.
URL:https://glencoebaptist.org/event/sunday-service-2/2026-12-20/
LOCATION:Glencoe Baptist Church\, 196 North Glencoe Road\, New Smyrna Beach\, FL\, 32168\, United States
CATEGORIES:Worship Service
ATTACH;FMTTYPE=image/jpeg:https://glencoebaptist.org/wp-content/uploads/2022/11/Untitled-design-5.jpg
END:VEVENT
BEGIN:VEVENT
DTSTART;TZID=UTC:20261223T190000
DTEND;TZID=UTC:20261223T200000
DTSTAMP:20260423T202326
CREATED:20250919T160002Z
LAST-MODIFIED:20250919T160041Z
UID:10000543-1798052400-1798056000@glencoebaptist.org
SUMMARY:Wednesday Night Service
DESCRIPTION:Join us for Prayer and Bible study. We’re in the book of Judges.
URL:https://glencoebaptist.org/event/wednesday-night-service-2/2026-12-23/
LOCATION:Glencoe Baptist Church\, 196 North Glencoe Road\, New Smyrna Beach\, FL\, 32168\, United States
CATEGORIES:Worship Service
ATTACH;FMTTYPE=image/png:https://glencoebaptist.org/wp-content/uploads/2022/11/cr-2.png
END:VEVENT
BEGIN:VEVENT
DTSTART;TZID=UTC:20261227T104500
DTEND;TZID=UTC:20261227T120000
DTSTAMP:20260423T202326
CREATED:20250919T153540Z
LAST-MODIFIED:20250919T154028Z
UID:10000281-1798368300-1798372800@glencoebaptist.org
SUMMARY:Sunday Service
DESCRIPTION:Join us as we study Colossians.
URL:https://glencoebaptist.org/event/sunday-service-2/2026-12-27/
LOCATION:Glencoe Baptist Church\, 196 North Glencoe Road\, New Smyrna Beach\, FL\, 32168\, United States
CATEGORIES:Worship Service
ATTACH;FMTTYPE=image/jpeg:https://glencoebaptist.org/wp-content/uploads/2022/11/Untitled-design-5.jpg
END:VEVENT
BEGIN:VEVENT
DTSTART;TZID=UTC:20261230T190000
DTEND;TZID=UTC:20261230T200000
DTSTAMP:20260423T202326
CREATED:20250919T160002Z
LAST-MODIFIED:20250919T160041Z
UID:10000544-1798657200-1798660800@glencoebaptist.org
SUMMARY:Wednesday Night Service
DESCRIPTION:Join us for Prayer and Bible study. We’re in the book of Judges.
URL:https://glencoebaptist.org/event/wednesday-night-service-2/2026-12-30/
LOCATION:Glencoe Baptist Church\, 196 North Glencoe Road\, New Smyrna Beach\, FL\, 32168\, United States
CATEGORIES:Worship Service
ATTACH;FMTTYPE=image/png:https://glencoebaptist.org/wp-content/uploads/2022/11/cr-2.png
END:VEVENT
END:VCALENDAR